BEGIN:VCALENDAR
VERSION:2.0
PRODID:-//Ijanna Sol - ECPv6.2.8.2//NONSGML v1.0//EN
CALSCALE:GREGORIAN
METHOD:PUBLISH
X-WR-CALNAME:Ijanna Sol
X-ORIGINAL-URL:https://ijanna-sol.com
X-WR-CALDESC:Veranstaltungen für Ijanna Sol
REFRESH-INTERVAL;VALUE=DURATION:PT1H
X-Robots-Tag:noindex
X-PUBLISHED-TTL:PT1H
BEGIN:VTIMEZONE
TZID:Europe/Vienna
BEGIN:DAYLIGHT
TZOFFSETFROM:+0100
TZOFFSETTO:+0200
TZNAME:CEST
DTSTART:20210328T010000
END:DAYLIGHT
BEGIN:STANDARD
TZOFFSETFROM:+0200
TZOFFSETTO:+0100
TZNAME:CET
DTSTART:20211031T010000
END:STANDARD
END:VTIMEZONE
BEGIN:VEVENT
DTSTART;TZID=Europe/Vienna:20210412T190000
DTEND;TZID=Europe/Vienna:20210412T210000
DTSTAMP:20260426T014514
CREATED:20210413T082808Z
LAST-MODIFIED:20210413T085448Z
UID:1474-1618254000-1618261200@ijanna-sol.com
SUMMARY:Journey to Lilith
DESCRIPTION:
URL:https://ijanna-sol.com/veranstaltung/journey-to-lilith/
LOCATION:Online
ATTACH;FMTTYPE=image/jpeg:https://ijanna-sol.com/wp-content/uploads/2021/04/9e9980c9-18a7-4f78-89e2-1b6f3309e0ba.jpeg
END:VEVENT
END:VCALENDAR