BEGIN:VCALENDAR
VERSION:2.0
PRODID:-//Ijanna Sol - ECPv6.2.8.2//NONSGML v1.0//EN
CALSCALE:GREGORIAN
METHOD:PUBLISH
X-WR-CALNAME:Ijanna Sol
X-ORIGINAL-URL:https://ijanna-sol.com
X-WR-CALDESC:Veranstaltungen für Ijanna Sol
REFRESH-INTERVAL;VALUE=DURATION:PT1H
X-Robots-Tag:noindex
X-PUBLISHED-TTL:PT1H
BEGIN:VTIMEZONE
TZID:UTC
BEGIN:STANDARD
TZOFFSETFROM:+0000
TZOFFSETTO:+0000
TZNAME:UTC
DTSTART:20210101T000000
END:STANDARD
END:VTIMEZONE
BEGIN:VEVENT
DTSTART;TZID=UTC:20210430T160000
DTEND;TZID=UTC:20210430T180000
DTSTAMP:20260425T235919
CREATED:20210202T224002Z
LAST-MODIFIED:20210413T085818Z
UID:1092-1619798400-1619805600@ijanna-sol.com
SUMMARY:Zeremonie Lebensfreude
DESCRIPTION:[eosb_row][eosb_column][eosb_column_text]\n Naturzeremonie\n \nKomm in diesem zweistündigen Setting mit mir in die Natur und trete über die Schwelle in deine Natur.\nDiese Zeremonie soll dich dabei unterstützen\, deine Urnatur zu wecken\, deiner Lebenskraft und Lebendigkeit Raum zu geben und deine Sinnlichkeit zu bespielen.\nEgal ob auf der Blumenwiese\, im kalten Bach oder im Schatten der Eiche. Die Rituale in dieser Zeremonie bergen Schritte aus dem Alltäglichen. Jede Naturzeremonie hütet ein Thema\, dass uns mit Archetypen oder Urqualitäten in Kontakt bringt.\n[/eosb_column_text][eosb_empty_space][eosb_column_text]\nHast du noch Fragen?\n[/eosb_column_text][eosb_simple_button title=“Schreibe mir“ url=“https://ijanna-sol.com/contact“][eosb_empty_space][/eosb_column][/eosb_row]
URL:https://ijanna-sol.com/veranstaltung/workshop-lebensfreude/
ATTACH;FMTTYPE=image/jpeg:https://ijanna-sol.com/wp-content/uploads/2021/01/workshop-lebensfreude-be-embraced-begleitung-frauenarbeit-heilige-sexualitaet.jpg
END:VEVENT
END:VCALENDAR