BEGIN:VCALENDAR
VERSION:2.0
PRODID:-//Ijanna Sol - ECPv6.2.8.2//NONSGML v1.0//EN
CALSCALE:GREGORIAN
METHOD:PUBLISH
X-WR-CALNAME:Ijanna Sol
X-ORIGINAL-URL:https://ijanna-sol.com
X-WR-CALDESC:Veranstaltungen für Ijanna Sol
REFRESH-INTERVAL;VALUE=DURATION:PT1H
X-Robots-Tag:noindex
X-PUBLISHED-TTL:PT1H
BEGIN:VTIMEZONE
TZID:UTC
BEGIN:STANDARD
TZOFFSETFROM:+0000
TZOFFSETTO:+0000
TZNAME:UTC
DTSTART:20210101T000000
END:STANDARD
END:VTIMEZONE
BEGIN:VEVENT
DTSTART;TZID=UTC:20210513T100000
DTEND;TZID=UTC:20210515T150000
DTSTAMP:20260426T000043
CREATED:20210503T151230Z
LAST-MODIFIED:20210503T154140Z
UID:1537-1620900000-1621090800@ijanna-sol.com
SUMMARY:Naturzeit
DESCRIPTION:[eosb_row][eosb_column][eosb_column_text]\n Naturzeit\n\n\n💛 Es ist so weit ✨\nDer idyllische Kraftplatz meiner Herzensschwester in Oberösterreich öffnet erstmals seine Pforten für eine gemeinsame Naturzeit.\nDie magische Natur zwischen Megalithlandschaft und Moospolstern läd mit allen Sinnen ein\, die Seele baumeln zu lassen.\nAußerdem möchten wir ein Gartenbeet anlegen. Es gibt daher 6 Naturzeit – Plätze zu vergeben\, die für nur 77 € gebucht werden können.\n(Ausgleich sind fünf Stunden an Mitarbeit für das Beet)\nInkludiert sind:\n> 7 biologische vegetarische Mahlzeiten\n> 2 Übernachtungen im Hobbithäuschen oder im Wohnwagen\n> eine Kräuterwanderung\n> ein Singkreis\n> 2 Yogaeinheiten\n> eine Feuerzeremonie\n> und Zeit in der gemütlichen Sauna\nWenn du dir ein Wochenende gönnen möchtest\, um Kraft zu tanken und rein das Bedürfnis hast zu Entspannen\, gibt es weitere 6 Plätze um 222€.\nDie Naturzeit öffnet einen Raum um drei Tage miteinander vor allem unsere Herzen zu stärken und aufzuladen.\nWir freuen uns wenn dein Herz dich ruft!\nWillkommen 🙂\n\n \n\nGeplanter Ablauf\n\n \n\nDonnerstag\, 13. Mai\nab 10 h Eintrudeln & Platz kennen lernen\n13 h gemeinsames Mittag essen\nanschließende KRÄUTERWANDERUNG\nABENDS Singkreis & Lagerfeuer\n\n \n\nFreitag\, 14. Mai\nMorgenyoga\nFrühstück\nGartenbeet anlegen oder freie Zeit für Spaziergänge etc…\n13 h Mittag essen\n15 h Naturzeremonie\nAbendessen\nab 19 h Saunamöglichkeit oder Redekreis am Feuer\n\n \n\nSamstag\, 15. Mai\nMorgenyoga\nFrühstück\nGartenzeit mit Musik\nAusklang mit Gustohappen\n\n\n[/eosb_column_text][eosb_empty_space][eosb_column_text]\nHast du noch Fragen?\n\n[/eosb_column_text][eosb_simple_button title=“Schreibe mir“ url=“https://ijanna-sol.com/contact“][eosb_empty_space][/eosb_column][/eosb_row][eosb_row][eosb_column][eosb_popup id=“1062″ text=“Anmeldeformular“ color=“#b88c49″ look=“button“ align=“center“ zoom=“80″ scroll=“1″][/eosb_column][/eosb_row]
URL:https://ijanna-sol.com/veranstaltung/workshop-lebensfreude-2/
LOCATION:St.Thomas am Blasenstein
ATTACH;FMTTYPE=image/jpeg:https://ijanna-sol.com/wp-content/uploads/2021/04/180720168-10227314473186577-1872352484605905409-n-2.jpg
END:VEVENT
END:VCALENDAR