BEGIN:VCALENDAR
VERSION:2.0
PRODID:-//Ijanna Sol - ECPv6.2.8.2//NONSGML v1.0//EN
CALSCALE:GREGORIAN
METHOD:PUBLISH
X-WR-CALNAME:Ijanna Sol
X-ORIGINAL-URL:https://ijanna-sol.com
X-WR-CALDESC:Veranstaltungen für Ijanna Sol
REFRESH-INTERVAL;VALUE=DURATION:PT1H
X-Robots-Tag:noindex
X-PUBLISHED-TTL:PT1H
BEGIN:VTIMEZONE
TZID:Europe/Vienna
BEGIN:DAYLIGHT
TZOFFSETFROM:+0100
TZOFFSETTO:+0200
TZNAME:CEST
DTSTART:20210328T010000
END:DAYLIGHT
BEGIN:STANDARD
TZOFFSETFROM:+0200
TZOFFSETTO:+0100
TZNAME:CET
DTSTART:20211031T010000
END:STANDARD
END:VTIMEZONE
BEGIN:VEVENT
DTSTART;TZID=Europe/Vienna:20211023T170000
DTEND;TZID=Europe/Vienna:20211023T220000
DTSTAMP:20260425T154812
CREATED:20211014T163136Z
LAST-MODIFIED:20211019T164042Z
UID:1666-1635008400-1635026400@ijanna-sol.com
SUMMARY:Sonnentempel Eröffnungsfest
DESCRIPTION:[eosb_row][eosb_column][eosb_column_text]Es ist so weit – der Sonnentempel öffnet seine Tore. \n\nEin traumhafter Ort Umgeben von Wald und Wiesen Nähe Klosterneuburg und Sankt Andrä Wördern.\n\n\n \n\n \n\n[/eosb_column_text][/eosb_column][/eosb_row][eosb_row][eosb_column width=“1/2″][eosb_single_image image=“1668″][/eosb_column][eosb_column width=“1/2″][eosb_single_image image=“1667″][/eosb_column][/eosb_row]
URL:https://ijanna-sol.com/veranstaltung/sonnentempel-eroeffnungsfest/
LOCATION:Sonnentempel\, Hadersfeld 3422
ATTACH;FMTTYPE=image/jpeg:https://ijanna-sol.com/wp-content/uploads/2021/10/gfzwnbxz3vmq7lop4wjaqee4qicjgduheirkzk6qrpah4amyvsp7vscwypvr6zg7zg6ci7luofwzrt74507d9hvjl6k146sg8-uku7e9nczath3lt7-oorapjdhwcukd82kluwughnd43h9tpxkcurusopfzvm8s0-d-e1-ft.jpg
END:VEVENT
END:VCALENDAR