BEGIN:VCALENDAR
VERSION:2.0
PRODID:-//Ijanna Sol - ECPv6.2.8.2//NONSGML v1.0//EN
CALSCALE:GREGORIAN
METHOD:PUBLISH
X-ORIGINAL-URL:https://ijanna-sol.com
X-WR-CALDESC:Veranstaltungen für Ijanna Sol
REFRESH-INTERVAL;VALUE=DURATION:PT1H
X-Robots-Tag:noindex
X-PUBLISHED-TTL:PT1H
BEGIN:VTIMEZONE
TZID:Europe/Vienna
BEGIN:DAYLIGHT
TZOFFSETFROM:+0100
TZOFFSETTO:+0200
TZNAME:CEST
DTSTART:20210328T010000
END:DAYLIGHT
BEGIN:STANDARD
TZOFFSETFROM:+0200
TZOFFSETTO:+0100
TZNAME:CET
DTSTART:20211031T010000
END:STANDARD
END:VTIMEZONE
BEGIN:VEVENT
DTSTART;TZID=Europe/Vienna:20211104T180000
DTEND;TZID=Europe/Vienna:20211104T210000
DTSTAMP:20260425T135436
CREATED:20211007T111531Z
LAST-MODIFIED:20211103T132620Z
UID:1651-1636048800-1636059600@ijanna-sol.com
SUMMARY:Zeit für Weiblichkeit
DESCRIPTION:[eosb_row][eosb_column][eosb_column_text]\nFrauenkreis zu Samhain am Neumond\n\nGemeinsam mit Linda Licht am 4. November im Sonnentempel\n\nZ E I T  F Ü R  W E I B L I C H K E I T\n\n Die Zeit der Göttin erwacht \nLinda bereitet edelsten Ceremony roh Kakao zu .Ich teile Übungen aus dem Tao für die weibliche Sinnlichkeit mit Musik & Tanz und einem Sterberitual um all das was unser Potenzial verwässert abzugeben.\nDieser Frauenkreis ist ohne Kiddies\, um für uns einen Rahmen zu halten indem wir mit vollem Fokus eintauchen können \nIch öffne diesen Raum voller Achtsamkeit\, Liebe und Demut in dem Wissen das die Zeit reif ist unsere Kräfte als Frauen ganz zu leben\n[/eosb_column_text][/eosb_column][/eosb_row][eosb_row][eosb_column][eosb_single_image image=“1655″][/eosb_column][/eosb_row][eosb_row][eosb_column][/eosb_column][/eosb_row][eosb_row][eosb_column][eosb_popup id=“1062″ text=“Anmeldeformular“ color=“#b88c49″ look=“button“ align=“center“ zoom=“100″ scroll=“1″][/eosb_column][/eosb_row]
URL:https://ijanna-sol.com/veranstaltung/zeit-fuer-weiblichkeit/
LOCATION:Sonnentempel\, Hadersfeld 3422
ATTACH;FMTTYPE=image/jpeg:https://ijanna-sol.com/wp-content/uploads/2021/10/img-4825-650x841-2.jpg
END:VEVENT
END:VCALENDAR