BEGIN:VCALENDAR
VERSION:2.0
PRODID:-//Ijanna Sol - ECPv6.2.8.2//NONSGML v1.0//EN
CALSCALE:GREGORIAN
METHOD:PUBLISH
X-WR-CALNAME:Ijanna Sol
X-ORIGINAL-URL:https://ijanna-sol.com
X-WR-CALDESC:Veranstaltungen für Ijanna Sol
REFRESH-INTERVAL;VALUE=DURATION:PT1H
X-Robots-Tag:noindex
X-PUBLISHED-TTL:PT1H
BEGIN:VTIMEZONE
TZID:Europe/Vienna
BEGIN:DAYLIGHT
TZOFFSETFROM:+0100
TZOFFSETTO:+0200
TZNAME:CEST
DTSTART:20210328T010000
END:DAYLIGHT
BEGIN:STANDARD
TZOFFSETFROM:+0200
TZOFFSETTO:+0100
TZNAME:CET
DTSTART:20211031T010000
END:STANDARD
END:VTIMEZONE
BEGIN:VEVENT
DTSTART;TZID=Europe/Vienna:20211211T110000
DTEND;TZID=Europe/Vienna:20211211T200000
DTSTAMP:20260425T135249
CREATED:20211109T124055Z
LAST-MODIFIED:20211126T130430Z
UID:1798-1639220400-1639252800@ijanna-sol.com
SUMMARY:Schwitzhütte für Paare
DESCRIPTION:[eosb_row][eosb_column][eosb_column_text]Die Schwitzhütte ist ein tiefgreifendes und archaisches Ritual der Reinigung & Stärkung. Diese Zeremonie ist einer glücklichen und lebendigen Partnerschaft gewidmet.\n\n 	Stärkung des Beziehungsbandes\n 	gemeinsam etwas Altes sterben lassen\n 	eine Wiedergeburt der Partnerschaft einläuten\n\n[/eosb_column_text][eosb_popup id=“1062″ text=“Jetzt anmelden“ color=“rgba(184\,140\,73\,0.75)“ look=“button“ align=“center“ zoom=“80″ scroll=“1″][eosb_empty_space height=“96px“][eosb_column_text]\nHast du noch Fragen?\n[/eosb_column_text][eosb_simple_button title=“Schreibe mir“ url=“https://ijanna-sol.com/contact“][eosb_empty_space][/eosb_column][/eosb_row]
URL:https://ijanna-sol.com/veranstaltung/schwitzhuettefuerpaare/
LOCATION:Sonnentempel\, Hadersfeld 3422
ATTACH;FMTTYPE=image/png:https://ijanna-sol.com/wp-content/uploads/2021/11/schwitzhutte-fur-paare.png
END:VEVENT
END:VCALENDAR