BEGIN:VCALENDAR
VERSION:2.0
PRODID:-//Ijanna Sol - ECPv6.2.8.2//NONSGML v1.0//EN
CALSCALE:GREGORIAN
METHOD:PUBLISH
X-ORIGINAL-URL:https://ijanna-sol.com
X-WR-CALDESC:Veranstaltungen für Ijanna Sol
REFRESH-INTERVAL;VALUE=DURATION:PT1H
X-Robots-Tag:noindex
X-PUBLISHED-TTL:PT1H
BEGIN:VTIMEZONE
TZID:Europe/Vienna
BEGIN:DAYLIGHT
TZOFFSETFROM:+0100
TZOFFSETTO:+0200
TZNAME:CEST
DTSTART:20210328T010000
END:DAYLIGHT
BEGIN:STANDARD
TZOFFSETFROM:+0200
TZOFFSETTO:+0100
TZNAME:CET
DTSTART:20211031T010000
END:STANDARD
END:VTIMEZONE
BEGIN:VEVENT
DTSTART;TZID=Europe/Vienna:20211221T150000
DTEND;TZID=Europe/Vienna:20211221T210000
DTSTAMP:20260425T121800
CREATED:20211126T130208Z
LAST-MODIFIED:20211215T114341Z
UID:1834-1640098800-1640120400@ijanna-sol.com
SUMMARY:Alchemie des Lichts
DESCRIPTION:[eosb_row][eosb_column][eosb_column_text]\nWir kommen zusammen um die Wiedergeburt des Lichts zu feiern und das Feuer\, das Licht und die Wärme im magischen Momentum eines zeremoniellen Raumes zu erfahren.\n \nDie Alchemie des Lichts ist eine ganz besondere Feier.\n \n\nUm 15:00   starten wir mit einer geführten Licht Meditation und einem Quintessenz Wertschätzungsritual von Weiblichkeit und Männlichkeit.\n\nAnschließend zelebrieren wir gemeinsam das Sonnenuntergangs Agni Hotra und ein Agni Jagna – die Form die wir wählen\, ist das 108 Mal Singen des Gayatri Mantras.\n\nIn der darauffolgenden Agni Hotra Initiation bekommst du eine umfassende Wissensvermittlung von Wotan\, was das Agni Hotra ist und warum dieses uralte vedische Feuerritual praktiziert wird. Wenn du dein eigenes Set für das Agni Hotra haben möchtest\, kannst du vor Ort Eines erwerben.\n\n \n\nUm 17:30   öffnen wir die Türen für Familien mit Kindern und gehen über in eine Feuerzeremonie begleitet mit Medizinliedern und Ijannas Magic. Schamanisches Trommeln\, Tanzen\, Geschichten erzählen über die Wintersonnenwende sowie ein Ritual zur Ehrung und Wertschätzung der Dreiheit ( Vater – Mutter – Kind)  stehen hier im Fokus. Es macht gar nichts\, wenn du Alleinerzieher/in bist!\n\n \n\nVon 19:00 – 21:00    laden wir zu einem Singkreis in den Sonnentempel ein.\n\nFür Lieder des Herzens und Wotans Music ist hier Space um ganz in unsere Liebesfähigkeit einzutauchen.\n\n \n\nWir lieben es sehr\, diesen Raum zu öffnen und sind voller Vorfreude und Dankbarkeit. [/eosb_column_text][eosb_popup id=“1062″ text=“Jetzt anmelden“ color=“rgba(184\,140\,73\,0.75)“ look=“button“ align=“center“ zoom=“80″ scroll=“1″][eosb_empty_space height=“96px“][eosb_column_text]\nHast du noch Fragen?\n[/eosb_column_text][eosb_simple_button title=“Schreibe mir“ url=“https://ijanna-sol.com/contact“][eosb_empty_space][/eosb_column][/eosb_row]
URL:https://ijanna-sol.com/veranstaltung/alchemie-des-lichts/
LOCATION:Sonnentempel\, Hadersfeld 3422
ATTACH;FMTTYPE=image/png:https://ijanna-sol.com/wp-content/uploads/2021/11/alchemie-des-lichts-1.png
END:VEVENT
END:VCALENDAR