BEGIN:VCALENDAR
VERSION:2.0
PRODID:-//Ijanna Sol - ECPv6.2.8.2//NONSGML v1.0//EN
CALSCALE:GREGORIAN
METHOD:PUBLISH
X-WR-CALNAME:Ijanna Sol
X-ORIGINAL-URL:https://ijanna-sol.com
X-WR-CALDESC:Veranstaltungen für Ijanna Sol
REFRESH-INTERVAL;VALUE=DURATION:PT1H
X-Robots-Tag:noindex
X-PUBLISHED-TTL:PT1H
BEGIN:VTIMEZONE
TZID:Europe/Vienna
BEGIN:DAYLIGHT
TZOFFSETFROM:+0100
TZOFFSETTO:+0200
TZNAME:CEST
DTSTART:20220327T010000
END:DAYLIGHT
BEGIN:STANDARD
TZOFFSETFROM:+0200
TZOFFSETTO:+0100
TZNAME:CET
DTSTART:20221030T010000
END:STANDARD
END:VTIMEZONE
BEGIN:VEVENT
DTSTART;TZID=Europe/Vienna:20220516T160000
DTEND;TZID=Europe/Vienna:20220516T200000
DTSTAMP:20260425T034234
CREATED:20220511T170931Z
LAST-MODIFIED:20220516T082706Z
UID:2177-1652716800-1652731200@ijanna-sol.com
SUMMARY:Fullmoon Beltane Ceremony
DESCRIPTION:[eosb_row][eosb_column][eosb_empty_space][/eosb_column][/eosb_row][eosb_row][eosb_column][eosb_column_text]\nFullmoon Beltane Ceremony\n \nSei dabei und feier mit uns an diesen lustvollen freudvollen Nachmittag.\nGemeinsam aktivieren wir die Sexualkraft\, und die wunderschöne Verbindung zum Leben und der Lebenslust.\n\nWir zelebrieren den “Maibaum aufstellen“ Brauch in einer uralten und doch ganz neuen Weise und ehren somit unsere Genialen und die Verbindung von Mann und Frau.\nwenn du die Lust verspürst\, aktiv und spielerisch an diesem Ritual mitzuwirken dann bist du genau richtig!\n\nWir lassen den Alltag hinter uns und feiern im Vollmond Sonnentempelraum.\n\nBring Blumen\, Honig\, Milch\, Rotwein\, rote Beete Saft\, Rosenblätter\, Ton zum kneten\, genussreiches sinnliches Essen mit zum schmücken schmausen und fühlen.\n\nDresscode: green & red[/eosb_column_text][eosb_popup id=“1062″ text=“Jetzt anmelden“ color=“rgba(184\,140\,73\,0.75)“ look=“button“ align=“center“ zoom=“80″ scroll=“1″][eosb_empty_space height=“96px“][eosb_column_text]\nHast du noch Fragen?\n[/eosb_column_text][eosb_simple_button title=“Schreibe mir“ url=“https://ijanna-sol.com/contact“][eosb_empty_space][/eosb_column][/eosb_row][eosb_row][eosb_column][eosb_single_image image=“2180″ img_size=“medium-large“][/eosb_column][/eosb_row][eosb_row][eosb_column][eosb_empty_space][eosb_column_text]\nBELTANE CEREMONY\nMONDAY MAY 16th\n\nMake yourself ready for celebrating and\nExperience an Honoring Ritual from our Ancestors.\nTogether we activate the sexual power within and connect ourselves to this beautiful Life and Lushness.\n\nPeople\nIt is time\nMoon is rising\nFULLMOON ahead of us\nOpen up to her\nHonour the sacred Earth Temple\nFeel your Light and embody your Truth\nCOME BACK TO YOUR SEXUAL NATURE\nand CELEBRATE with us\n\n\n[/eosb_column_text][/eosb_column][/eosb_row][eosb_row][eosb_column][eosb_single_image image=“2179″ img_size=“medium-large“][/eosb_column][/eosb_row]
URL:https://ijanna-sol.com/veranstaltung/fullmoon-beltane-ceremony/
LOCATION:Sonnentempel / Sankt Andrä Wördern
ATTACH;FMTTYPE=image/jpeg:https://ijanna-sol.com/wp-content/uploads/2022/05/280242083-736717451031944-2339295402315717571-n.jpg
END:VEVENT
END:VCALENDAR