BEGIN:VCALENDAR
VERSION:2.0
PRODID:-//Ijanna Sol - ECPv6.2.8.2//NONSGML v1.0//EN
CALSCALE:GREGORIAN
METHOD:PUBLISH
X-ORIGINAL-URL:https://ijanna-sol.com
X-WR-CALDESC:Veranstaltungen für Ijanna Sol
REFRESH-INTERVAL;VALUE=DURATION:PT1H
X-Robots-Tag:noindex
X-PUBLISHED-TTL:PT1H
BEGIN:VTIMEZONE
TZID:Europe/Vienna
BEGIN:DAYLIGHT
TZOFFSETFROM:+0100
TZOFFSETTO:+0200
TZNAME:CEST
DTSTART:20220327T010000
END:DAYLIGHT
BEGIN:STANDARD
TZOFFSETFROM:+0200
TZOFFSETTO:+0100
TZNAME:CET
DTSTART:20221030T010000
END:STANDARD
END:VTIMEZONE
BEGIN:VEVENT
DTSTART;TZID=Europe/Vienna:20220614T170000
DTEND;TZID=Europe/Vienna:20220629T190000
DTSTAMP:20260425T020039
CREATED:20220528T080409Z
LAST-MODIFIED:20220613T150137Z
UID:2227-1655226000-1656529200@ijanna-sol.com
SUMMARY:Befreiung von der Hexenwunde
DESCRIPTION:[eosb_row][eosb_column][eosb_empty_space][/eosb_column][/eosb_row][eosb_row][eosb_column][eosb_column_text]\n\n\n☤☤☤☤☤☤☤☤☤☤☤☤☤☤☤☤\n\n\n\n\n Ein Online Portal\n16 Days of intense Healing and Reclaiming your Power\n5 Live Online Calls\n16 Tage lang Prozessbegleitung\, Meditationen\, emotional Release\, Transmissions\, Aktivierungen und energetische Begleitung\n\n\nWir starten am 14. Juni 11 h\nBis zum 6.6. 560 €\nDann 675 €\nSPECIAL OFFER für alle Frauen die bei der Verlosung teilgenommen haben 444€\n\nWieviel ist es dir Wert und wieviel gibst du hinein abzulegen was dich hindert GANZ DU SELBST ZU SEIN?\n☤☤☤☤☤☤☤☤☤☤☤☤☤☤☤☤\n\n\n\n\n\n\n\n\nDie Hexenwunde\n\n\n\n\n☤ Die Hexenwunde ist gegenwärtig und im Jetzt relevant ☤\n\nSie drückt in den Schmerz und die Angst von …\n\n\n▽ Misstrauen > ein Grundmisstrauen an das Leben\, meine Mitmenschen und vielleicht auch mir selbst\n▽ Mangel > eine Frequenz die sich in Gedanken wie “ Ich bin falsch oder habe etwas falsch gemacht“ ausdrückt\n\n\n▽ Sich nicht wohl fühlen im Körper\, Körperteile wie der Hals\, Bauch\, Herz\, Vagina fühlen sich eingeengt\, zugezurrt\, unfrei\, versperrt\, unangenehm\n▽ Angst oder Erinnerungen an Missbrauch/Folter – einem unguten Umgang mit dem Körperlichen\, Emotionalen und Seelischen\n\n\n▽ Verstecken\, Unsicherheit\, sich nicht trauen – Angst vor Strafe\n▽ Ein Gedanke\, Überzeugung\, Gefühl von „etwas im Außen ist gegen mich“ etwas im Außen kann negativ über mich bestimmen oder bestimmt über mich\, gilt es zu bekämpfen\, sich zu schützen\n\n\n\n☤ ICH FINDE ES UNENDLICH WICHTIG\, DASS WIR UNS BEFREIEN ☤\nDIE BEFREIUNG FINDET IM INNEREN STATT – DEN NICHTS IM AUßEN KANN TATSÄCHLICH ÜBER DICH BESTIMMEN!\n\n\n\n\n▽ Radikale Selbstverantwortung\n▽ Der eigenen Sucht nach Kontrolle und dem inneren Patriarchen auf die Schliche kommen\n▽ Das Opferspiel beenden\n▽ Das volle Maß an Lebensenergie und Schöpferinnenkraft wieder in unsere Realität holen\n\n\n\n\n\n\n\n\n\n\n\n\n\n[/eosb_column_text][eosb_popup id=“1062″ text=“Das will ich“ color=“rgba(184\,140\,73\,0.75)“ look=“button“ align=“center“ zoom=“80″ scroll=“1″][eosb_column_text]\n\n\n\n☤ Kennst du die Angst beobachtet\, verfolgt oder bestraft zu werden\, zum Beispiel wenn du zu zu sehr aus dir herausgehst\, laut lachst\, zu wild tanzt oder nackt bist?\n\n\n\n\n\n\n☤ Hast du immer wieder mal ein schlechtes Selbstwertgefühl\, innere Stimmen die dich verurteilen?\n\n\n☤ Gehts dir auch manchmal so\, dass du Unzufrieden mit dem Aussehen deines Körpers bist oder fühlst dich nicht gut verbunden/dissoziiert vom Körper?\n☤ Bist du blockiert in deiner Sexualität oder ist sie nicht so wie du weißt\, dass sie sein könnte?\n\n\n\nIch weiß wovon ich spreche\n\n\n\nIch hab seit nun 15 Jahren die Reise angetreten mir meine Lebensfreude\, meine Lebenskraft zurückzuholen.\nImmer wieder komme ich in meinem Leben an einen Punkt\, indem ich sehr lebensmüde bin und alles für sinnlos halte.\nNicht selten gab es Situationen\, in denen ich aufgeben wollte.\nMeistens dann\, wenn ich mich von meiner Lebenskraft abschneide und versuche in ein Schema zu passen\, „normal zu sein“ und mich selbst unter Druck setze.\n\n\nDu wählst deine Lebensgestaltung\n \n\n\n\n\n\n\n\n\n\n\n☤ DU BIST SICHER und es ist in diesem Leben keine Gefahr\, dich voll zu zeigen und zu entfalten.\nDen Schritt in die befreite Weiblichkeit haben nun schon viele Frauen vor uns getan.\n\n\n\n☤ Gemeinsam können wir die wahre weibliche Kraft die wir sind\, zum erblühen bringen.\nDie Eifersucht\, den Vergleich und den Wettbewerb ein für alle Mal ins Herz holen und uns ERINNERN.\n\n\n\n☤Jede von uns duftet anders\, ist besonders und für jede von uns gibts genügend Platz sich zu entfalten!\n\n\n\nSei gern dabei in meinem neuen Programm\n\n☫ BEFREIUNG VON DER HEXENWUNDE ☫\n\nHier gehen wir hinein\nIn das was uns getrennt hat von der weiblichen Kraft\nUnd holen uns das zurück\, was unser Geburtsrecht ist\n\n\nEs ist Zeit\n\n\n▽ ZEIT DIE ALTEN KAHLEN MAUERN IN STEINKREISE UND SPIRALEN ZU VERWANDELN UND MIT WUNDERVOLL DUFTENDEN BLUMEN ZU BEPFLANZEN ▽\n\n\n\n\n\n\n\n\n\n\n\n\n[/eosb_column_text][eosb_single_image image=“2230″ img_size=“medium-large“][eosb_popup id=“1062″ text=“Jetzt anmelden“ color=“rgba(184\,140\,73\,0.75)“ look=“button“ align=“center“ zoom=“80″ scroll=“1″][eosb_empty_space height=“96px“][eosb_column_text]\nHast du noch Fragen?\n[/eosb_column_text][eosb_simple_button title=“Schreibe mir“ url=“https://ijanna-sol.com/contact“][eosb_empty_space][/eosb_column][/eosb_row][eosb_row][eosb_column][eosb_empty_space][/eosb_column][/eosb_row]
URL:https://ijanna-sol.com/veranstaltung/befreiung-von-der-hexenwunde/
LOCATION:Online
ATTACH;FMTTYPE=image/jpeg:https://ijanna-sol.com/wp-content/uploads/2022/05/7a59fca6-6d9a-4baf-a380-8346e49e7a53-1-201-a-scaled.jpeg
END:VEVENT
END:VCALENDAR