BEGIN:VCALENDAR
VERSION:2.0
PRODID:-//Ijanna Sol - ECPv6.2.8.2//NONSGML v1.0//EN
CALSCALE:GREGORIAN
METHOD:PUBLISH
X-WR-CALNAME:Ijanna Sol
X-ORIGINAL-URL:https://ijanna-sol.com
X-WR-CALDESC:Veranstaltungen für Ijanna Sol
REFRESH-INTERVAL;VALUE=DURATION:PT1H
X-Robots-Tag:noindex
X-PUBLISHED-TTL:PT1H
BEGIN:VTIMEZONE
TZID:Europe/Vienna
BEGIN:DAYLIGHT
TZOFFSETFROM:+0100
TZOFFSETTO:+0200
TZNAME:CEST
DTSTART:20220327T010000
END:DAYLIGHT
BEGIN:STANDARD
TZOFFSETFROM:+0200
TZOFFSETTO:+0100
TZNAME:CET
DTSTART:20221030T010000
END:STANDARD
END:VTIMEZONE
BEGIN:VEVENT
DTSTART;TZID=Europe/Vienna:20220704T190000
DTEND;TZID=Europe/Vienna:20220710T190000
DTSTAMP:20260425T002252
CREATED:20220621T153214Z
LAST-MODIFIED:20220627T093142Z
UID:2273-1656961200-1657479600@ijanna-sol.com
SUMMARY:Feel at Home & Happy in your Body
DESCRIPTION:[eosb_row][eosb_column][eosb_empty_space][/eosb_column][/eosb_row][eosb_row][eosb_column][eosb_column_text]\n\n\n\n\n\n\n\n\nEtwas für unser leibliches Wohl\nfür unsere Körperinnen ☤ der Tempel unserer Seele\n\n\n… wären da nicht die ganzen Glaubenssätze\, negativen Gedanken\, Gefühle\, Vergleiche und Bewertungen rund um diesen Körper den wir haben.\n\n\n… Körperteile die zu klein zu groß sind\, zu dick\, zu dünn\, zu wenig zu viel die Haut nicht straff genug \, einfach nicht schön genug – die anderen Frauen viel Schöner ☤\n\n\n⫸ Und wieder beginnt die Spirale von vorne ⫷\nNatürlich verändert sich auch nicht viel am Körper\, da wir immer wieder die gleichen Gedanken über sie haben.\n\n\nDas ständige nagen kenne ich seit meiner Jugend … mein Körper ist nicht schön und nicht schlank genug! Such a Healing and Release to come to Peace and rewrite this Story and the Body changes magically!\n\n\n⫸ Ich lade dich ein ⫷\n▽ 7 Tage Online Portal\n▽ 3 Live Calls\n▽ Meditationen und Ho’oponopono\, um in den Frieden und in die Vergebung zu kommen\n▽ Weiblich intuitive Body Exercises\, um die Körperin besser zu spüren\n▽ ein Commitment – für dich\n▽ gehalten im Schwesternkreis\n▽ Visualisierungsübungen um bewusst aus der negativ Spirale auszusteigen und uns ganz klar mit unserem Lieblingskörper zu verbinden\n\n\n\n\n\n\n\n\n\nEarlybird bis Montag 27.6. 111€\n\n\n\n\n\n\n\n\n\n\n\n\n\n\n[/eosb_column_text][eosb_popup id=“1062″ text=“Jetzt anmelden“ color=“rgba(184\,140\,73\,0.75)“ look=“button“ align=“center“ zoom=“80″ scroll=“1″][eosb_empty_space height=“96px“][eosb_column_text]\nHast du noch Fragen?\n[/eosb_column_text][eosb_simple_button title=“Schreibe mir“ url=“https://ijanna-sol.com/contact“][eosb_empty_space][/eosb_column][/eosb_row][eosb_row][eosb_column][eosb_empty_space][/eosb_column][/eosb_row]
URL:https://ijanna-sol.com/veranstaltung/feel-at-home-in-your-body/
LOCATION:Online
ATTACH;FMTTYPE=image/jpeg:https://ijanna-sol.com/wp-content/uploads/2022/06/289031326-763564975013858-5643504002970953393-n.jpg
END:VEVENT
END:VCALENDAR