BEGIN:VCALENDAR
VERSION:2.0
PRODID:-//Ijanna Sol - ECPv6.2.8.2//NONSGML v1.0//EN
CALSCALE:GREGORIAN
METHOD:PUBLISH
X-WR-CALNAME:Ijanna Sol
X-ORIGINAL-URL:https://ijanna-sol.com
X-WR-CALDESC:Veranstaltungen für Ijanna Sol
REFRESH-INTERVAL;VALUE=DURATION:PT1H
X-Robots-Tag:noindex
X-PUBLISHED-TTL:PT1H
BEGIN:VTIMEZONE
TZID:Europe/Vienna
BEGIN:DAYLIGHT
TZOFFSETFROM:+0100
TZOFFSETTO:+0200
TZNAME:CEST
DTSTART:20220327T010000
END:DAYLIGHT
BEGIN:STANDARD
TZOFFSETFROM:+0200
TZOFFSETTO:+0100
TZNAME:CET
DTSTART:20221030T010000
END:STANDARD
END:VTIMEZONE
BEGIN:VEVENT
DTSTART;TZID=Europe/Vienna:20220909T200000
DTEND;TZID=Europe/Vienna:20220909T200000
DTSTAMP:20260424T210306
CREATED:20220719T100500Z
LAST-MODIFIED:20220731T220513Z
UID:2324-1662753600-1662753600@ijanna-sol.com
SUMMARY:Masterclass Feel at Home & Happy in your Body
DESCRIPTION:[eosb_row][eosb_column][eosb_column_text]\n\n\n\n\n ☤ Tauch mit mir in die Kraft deines Körpers – den Tempel deiner Seele ☤\n\n\n… eine Masterclass die deinen Körper neu beleuchtet und die dich unterstützt dich in einem neuen Licht zu spüren\n\n\n\n⫸ Feel at Home and Happy in your Body – 2 Stunden die ganz viel verändern können ⫷\n\n\n\n\n\n⫸ Ich lade dich ein ⫷\n▽ zu einer geführten Meditation\n▽ einer Übung inder du deine inneren Dämonen erkennst und ins Bewusstsein rufst\n▽ Weiblich intuitive Body Exercises\, um die Körperin besser zu spüren\n▽ gehalten im Schwesternkreis\n\n\n\n\n\n\n\nEarly Bird bis 17. August : 35 €\n\n\nWert: 45 €\n\n\n\n\n\n\n\n\n\n\n\n\n\n\n[/eosb_column_text][eosb_popup id=“1062″ text=“Jetzt anmelden“ color=“rgba(184\,140\,73\,0.75)“ look=“button“ align=“center“ zoom=“80″ scroll=“1″][eosb_empty_space height=“96px“][eosb_column_text]\nHast du noch Fragen?\n[/eosb_column_text][eosb_simple_button title=“Schreibe mir“ url=“https://ijanna-sol.com/contact“][eosb_empty_space][/eosb_column][/eosb_row][eosb_row][eosb_column][eosb_empty_space][/eosb_column][/eosb_row]
URL:https://ijanna-sol.com/veranstaltung/feel-at-home-in-your-body-masterclass/
LOCATION:Online
ATTACH;FMTTYPE=image/jpeg:https://ijanna-sol.com/wp-content/uploads/2022/07/1.jpeg
END:VEVENT
END:VCALENDAR