BEGIN:VCALENDAR
VERSION:2.0
PRODID:-//Ijanna Sol - ECPv6.2.8.2//NONSGML v1.0//EN
CALSCALE:GREGORIAN
METHOD:PUBLISH
X-ORIGINAL-URL:https://ijanna-sol.com
X-WR-CALDESC:Veranstaltungen für Ijanna Sol
REFRESH-INTERVAL;VALUE=DURATION:PT1H
X-Robots-Tag:noindex
X-PUBLISHED-TTL:PT1H
BEGIN:VTIMEZONE
TZID:Europe/Vienna
BEGIN:DAYLIGHT
TZOFFSETFROM:+0100
TZOFFSETTO:+0200
TZNAME:CEST
DTSTART:20220327T010000
END:DAYLIGHT
BEGIN:STANDARD
TZOFFSETFROM:+0200
TZOFFSETTO:+0100
TZNAME:CET
DTSTART:20221030T010000
END:STANDARD
END:VTIMEZONE
BEGIN:VEVENT
DTSTART;TZID=Europe/Vienna:20220910T200000
DTEND;TZID=Europe/Vienna:20220922T200000
DTSTAMP:20260424T210456
CREATED:20220719T094716Z
LAST-MODIFIED:20220902T134831Z
UID:2314-1662840000-1663876800@ijanna-sol.com
SUMMARY:Priestess Portal
DESCRIPTION:[eosb_row][eosb_column][eosb_column_text]\n\n\n\n\nREMEMBER YOUR MAGIC\nWelcome to Priestess Portal\n☤☤☤☤☤☤☤☤☤☤☤☤☤☤☤☤\n\n13 Days Art of Priestessing\n6 Live Online Calls\n13 Tage lang Transmissions\, Aktivierungen\, energetische Begleitung und Emodiment Praxis\n\n\nWir starten am 10. September 20 h\n\n\n\n\n[/eosb_column_text][eosb_popup id=“1062″ text=“Jetzt anmelden“ color=“rgba(184\,140\,73\,0.75)“ look=“button“ align=“center“ zoom=“80″ scroll=“1″][eosb_empty_space height=“96px“][eosb_single_image image=“2376″ img_size=“medium-large“][eosb_column_text]\n\n\n\n\n\nEin Raum der dem Herzen entspringt und der SELBSTLIEBE das wir würdig sind und der HOFFNUNG uns wirklich lieben zu können\, dient.\n\nEine 13 Tägige LIVE Online Immersion\, in der du zu deiner inneren Priesterin findest.\nDie Priesterin ⫸ der Archetyp in dir\, die ihr Licht leuchten lässt und Zugang zu ihrem heiligen Raum hat und aus diesem heraus ihre Kreativität und Freiheit lebt.\n\n\n\nAlle emotionalen sowie psychischen Schatten die sich hier zeigen\, wie Selbstwert Schwierigkeiten\, Scham\, Schuld\, Verzweiflung und sich alleine oder abgeschnitten fühlen\, dürfen in diesem Portal gefühlt\, gehalten und integierert werden.\nVerwandeln wir die Energie von inneren Verletzungen oder vermeintlichen Schwächen ▽\n\n\n\nDie Transformation durch die wir gehen\, fokussiert sich auf die Würde deiner Grenzen\, den Segen deiner Sexualität und den Kontakt mit den Elementarkräften ERDE WASSER FEUER LUFT.\n\n\nDie Qualitäten die gespürt und gemeinsam vertieft werden während dem Portal sind:\n\n\n⫸ Warrior Priestess\nDeepening the Presence within your Body to be able to set Clear Boundaries.\n\n\n⫸ Elemental Priestess\nInvoking the Elements of Fire\, Air\, Water and Earth to Empower your Life in Service to Love.\n\n\n⫸ Se*x Priestess\nAwakening your Sacred Sexuality and Divine Feminine Pleasure.\n\n\n\nWir gehen 4 Tage in jede Qualität hinein\nDazu biete ich Embodiment Praxis ▽ Körperübungen und geführte Meditationen an ▽ und vermittle Wissen\, das mir selbst aus einer uralten weiblichen Priesterinnentradition überliefert wurde.\n\n\n\n\n\n\n\n⫸ Bis 6.9. gibt es HIER die Möglichkeit bei einer Verlosung von 3 Gechenken unter anderem einen gratis Platz für das Portal mitzumachen.\n[/eosb_column_text][eosb_single_image image=“2315″ img_size=“medium-large“][eosb_column_text]\n\n\n\nEin Online Raum der dich 13 Tage lang mit deiner inneren Kraftquelle verbindet und Inspirationen\, Übungen\, Meditationen und viel LIEBE beinhaltet.\nGemeinsam öffnen wir zeremonielle Räume um aufzutanken\, Antworten zu finden und innere Klarheit zu spüren.\nTag für Tag näherst du dich deiner eigenen inneren Priesterin.\nIch gebe Downloads und Teachings weiter – bzgl. Schwellenrituale\, den Schlüsseln die wir im Inneren tragen und dem Wissen das mir aus einer uralten weiblichen Priesterinnentradition überliefert wurde.\n\nWir starten am 10. September zu Vollmond … mit voller Kraft vorraus\nund enden am 22. September zu Neumond … mit neuen Samen die erblühen\n\n\n\n\n\n\n\n\n\n\n\nWas lernst du im Priestess Portal ?\n\n\nZeremonielle Räume zu öffnen ….\n☤um aufzutanken\, Antworten zu finden\, Klarheit zu spüren\n☤ für Rückverbindung\n☤ um Schwellen (von Geburt über Hochzeit bis hin zum Tod) zu begleiten\n☤ um Seelsorgerin zu sein\n☤ Die Kraft\, die in uns allen steckt zu verkörpern\n\n\n\n\n\n\n\n\n\n\nWalking together the Path of sacred Livinig.\nWeil wir dafür gekommen sind.\n\n\n☤☤☤☤☤☤☤☤☤☤☤☤☤☤☤☤\n\n\nEarly Bird bis 12. August 300€\nInvestment: 345€\n\n\n\n\n\n\n\n\n\n\n\n\n\n\n\n\n[/eosb_column_text][eosb_popup id=“1062″ text=“Jetzt anmelden“ color=“rgba(184\,140\,73\,0.75)“ look=“button“ align=“center“ zoom=“80″ scroll=“1″][eosb_empty_space height=“96px“][eosb_column_text]\nHast du noch Fragen?\n[/eosb_column_text][eosb_simple_button title=“Schreibe mir“ url=“https://ijanna-sol.com/contact“][eosb_empty_space][/eosb_column][/eosb_row][eosb_row][eosb_column][eosb_empty_space][/eosb_column][/eosb_row]
URL:https://ijanna-sol.com/veranstaltung/priestess-portal-2/
LOCATION:Online
ATTACH;FMTTYPE=image/jpeg:https://ijanna-sol.com/wp-content/uploads/2022/07/56673030-2037986266298687-3030290523307900928-n.jpg
END:VEVENT
END:VCALENDAR