BEGIN:VCALENDAR
VERSION:2.0
PRODID:-//Ijanna Sol - ECPv6.2.8.2//NONSGML v1.0//EN
CALSCALE:GREGORIAN
METHOD:PUBLISH
X-ORIGINAL-URL:https://ijanna-sol.com
X-WR-CALDESC:Veranstaltungen für Ijanna Sol
REFRESH-INTERVAL;VALUE=DURATION:PT1H
X-Robots-Tag:noindex
X-PUBLISHED-TTL:PT1H
BEGIN:VTIMEZONE
TZID:Europe/Vienna
BEGIN:DAYLIGHT
TZOFFSETFROM:+0100
TZOFFSETTO:+0200
TZNAME:CEST
DTSTART:20230326T010000
END:DAYLIGHT
BEGIN:STANDARD
TZOFFSETFROM:+0200
TZOFFSETTO:+0100
TZNAME:CET
DTSTART:20231029T010000
END:STANDARD
END:VTIMEZONE
BEGIN:VEVENT
DTSTART;TZID=Europe/Vienna:20230101T200000
DTEND;TZID=Europe/Vienna:20231231T200000
DTSTAMP:20260422T181029
CREATED:20230525T155058Z
LAST-MODIFIED:20230626T103051Z
UID:2794-1672603200-1704052800@ijanna-sol.com
SUMMARY:Priestess Portal
DESCRIPTION:[eosb_row][eosb_column][eosb_column_text]\n\n\n\n\n\n\nPriestess Portal\n\nOnline Sisterhood\nReclaim your inner Goddess & Return into your sexual Nature\n\n \nSelbstbestimmt\, verbunden und kraftvoll leben\n\n\n\n\n\nWas lernst du im Priestess Portal ?\n☤ Deinem Bauchgefühl wieder zu vertrauen\n☤ deine Intuition zu schärfen\n☤ deine weibliche Lust zu spüren und zu verkörpern\n☤ dich selbst wieder zu ehren\n☤ deine Schönheit wieder einzufordern\n☤ deine sexuelle Kraft zu nutzen\, so wie sie dir dienlich ist\n☤ dich von Schuld und Scham die auf deiner Lebenskraft sitzen zu befreien\n☤ Die Kraft\, die in uns allen steckt zu verkörpern\n\n\n\n\n\n[/eosb_column_text][eosb_popup id=“1062″ text=“ich bin dabei“ color=“rgba(184\,140\,73\,0.75)“ look=“button“ align=“center“ zoom=“80″ scroll=“1″][eosb_empty_space height=“96px“][eosb_single_image image=“2915″ img_size=“medium-large“][eosb_column_text]\nGemeinsam in die Kraft. Trete ein in den Schwesternkreis!\nDu wirst initiiert in das Wissen der Priesterin. \n\nMit befreienden Ritualen für die Weiblichkeit!\n\n\n\nIm Portal enthältst du jedes Monat\neine Eröffnungszeremonie\n \nTantrayoga\n \n geführte Meditationen + Rituale\n \nKundaliniyogapraxis\n \nInspirationen\n \nWissensweitergabe\n \neine Plattform zum Austauschen\n \nAntworten auf Fragen\, die du hast\n \neinen thematischen Tiefgang\n\n\n\n\n[/eosb_column_text][eosb_single_image image=“2673″ img_size=“medium-large“][eosb_column_text]\nDas Portal ist das ganze Jahr 2023 geöffnet !  \nDu entscheidest jeden Vollmond neu\, ob du weitergehst.   \nMonatliche Themen – Schwerpunkte machen unsere Reise zu etwas magisch Besonderem. \nIn unserer privaten Facebook Gruppe hast du die Möglichkeit die Übungen immer wieder zu wiederholen und selbst zu vertiefen\, dich mit wundervollen gleichgesinnten Frauen zu vernetzen und gemeinsam den Priesterinnenweg zu erleben. \n[/eosb_column_text][eosb_single_image image=“2376″ img_size=“medium-large“][eosb_popup id=“1062″ text=“Ich bin bereit“ color=“rgba(184\,140\,73\,0.75)“ look=“button“ align=“center“ zoom=“80″ scroll=“1″][eosb_empty_space height=“96px“][eosb_column_text]\nHast du noch Fragen?\n[/eosb_column_text][eosb_simple_button title=“Schreibe mir“ url=“https://ijanna-sol.com/contact“][eosb_empty_space][/eosb_column][/eosb_row][eosb_row][eosb_column][eosb_empty_space][/eosb_column][/eosb_row]
URL:https://ijanna-sol.com/veranstaltung/priestess-portal-3-2/
LOCATION:Online
ATTACH;FMTTYPE=image/png:https://ijanna-sol.com/wp-content/uploads/2023/06/online-portal.png
END:VEVENT
BEGIN:VEVENT
DTSTART;TZID=Europe/Vienna:20230722T110000
DTEND;TZID=Europe/Vienna:20230722T200000
DTSTAMP:20260422T181029
CREATED:20230531T144957Z
LAST-MODIFIED:20230626T102134Z
UID:2813-1690023600-1690056000@ijanna-sol.com
SUMMARY:Schwitzhütte
DESCRIPTION:[eosb_row][eosb_column][eosb_column_text]\n \nSei willkommen im Schoß der Mutter Erde.\n \nWir kommen zusammen im Kreis – offen\, ehrlich und in Liebe. \nDie Schwitzhütte ist ein Sterbe- und Geburtsritual im Bauch der großen Göttin.\n \n\nDieses Ritual ist genau das Richtige für dich\, wenn du …\n\n\n \n\n\n 	in eine tiefe Verbindung mit dir\, deinem Körper und deinen Emotionen kommen willst.\n 	ein Naturerlebnis\, urig\, archaisch und wild erleben möchtest.\n 	die Kraft der Geborgenheit und Liebe erfahren willst.\n 	dich klar auf deine Herzensvision besinnen möchtest.\n 	die Gedanken\, die dich blockieren und klein halten in die Transformation senden willst.\n 	eine Neugeburt erfahren möchtest.\n\n\n \nTHE INNOCENCE OF TRUTH \n☤ A Heart Healing Ceremony for your inner Child ☤\n\nDas innere Kind in dir – hol es ganz zurück in dein Herz. \n\nGeborgenheit ~ genährt sein ~ gehalten werden\nA   LOVE   REFILL\n[/eosb_column_text][eosb_popup id=“1062″ text=“Ich bin bereit“ color=“#b88c49″ look=“button“ align=“center“ zoom=“100″ scroll=“1″][eosb_empty_space][eosb_single_image image=“2822″][eosb_empty_space][eosb_column_text]Womit du sicher rechnen kannst :\n\n \n\n 	tiefe Verbindung mit den Elementen und im Kreis\n 	Heartsharing\n 	angeleitete Körperaktivierungsübungen & Yoga\n 	Singkreis und Musik\n 	gemeinsames Feuer entzünden & Steine segnen\n 	Medicine Walk ~ eine Naturzeit mit Schwellengang nur für dich\n 	eine unvergessliche Zeit im Bauch der großen Mutter\n 	tiefe Transformations & Heilarbeit\n 	ein guter Abschluss bei einer nährenden Suppe\n\n \nFeuer verwandle mich\, führ mich in meine Kraft. \nFeuer verwandle mich\, führ mich in meine Kraft. \n \nIch will das Leben. Ich will den Mut. \nIch will das Leben. Ich will den Mut.\n \nZu tanzen inmitten der Flammen. \nZu tanzen inmitten der Flammen.\n \n\n \nDer Platz \n. . .\n\nliegt im wunderschönen Hügelland in St. Andrä – Wördern. Ein sehr geschützter und liebevoller Platz\, der uns Menschen einen Raum bietet\, um alle Masken fallen zu lassen und die ureigene Würde zurück zu fordern.\n\nMit den öffentlichen Verkehrsmitteln  gut erreichbar.\n\n \n\nEarly Bird Preis bis 22. JUNI um 100 €\n\nFür die Kurzfristigen unter euch 150 €\n\ninkl. Platzbeitrag\, Essen\, Tagesseminar\, Holz\n\n! LIMITED SEATS ! Wenn du den Ruf spürst\, meld dich am Besten gleich an 🙂[/eosb_column_text][/eosb_column][/eosb_row][eosb_row][eosb_column][eosb_popup id=“1062″ text=“Ich bin dabei“ color=“#b88c49″ look=“button“ align=“center“ zoom=“100″ scroll=“1″][/eosb_column][/eosb_row][eosb_row][eosb_column][eosb_column_text]\n \n \n \nHast du noch Fragen?\n \n[/eosb_column_text][/eosb_column][/eosb_row][eosb_row][eosb_column][eosb_empty_space][/eosb_column][/eosb_row][eosb_row][eosb_column][eosb_simple_button title=“Schreibe mir“ url=“https://ijanna-sol.com/contact“][/eosb_column][/eosb_row][eosb_row][eosb_column][eosb_empty_space][/eosb_column][/eosb_row]
URL:https://ijanna-sol.com/veranstaltung/schwitzhuette7/
LOCATION:Sankt Andrä – Wördern\, die genaue Adresse gibt’s bei der Anmeldung
ATTACH;FMTTYPE=image/jpeg:https://ijanna-sol.com/wp-content/uploads/2021/11/p1240687.jpg
END:VEVENT
END:VCALENDAR