BEGIN:VCALENDAR
VERSION:2.0
PRODID:-//Ijanna Sol - ECPv6.2.8.2//NONSGML v1.0//EN
CALSCALE:GREGORIAN
METHOD:PUBLISH
X-ORIGINAL-URL:https://ijanna-sol.com
X-WR-CALDESC:Veranstaltungen für Ijanna Sol
REFRESH-INTERVAL;VALUE=DURATION:PT1H
X-Robots-Tag:noindex
X-PUBLISHED-TTL:PT1H
BEGIN:VTIMEZONE
TZID:Europe/Vienna
BEGIN:DAYLIGHT
TZOFFSETFROM:+0100
TZOFFSETTO:+0200
TZNAME:CEST
DTSTART:20210328T010000
END:DAYLIGHT
BEGIN:STANDARD
TZOFFSETFROM:+0200
TZOFFSETTO:+0100
TZNAME:CET
DTSTART:20211031T010000
END:STANDARD
END:VTIMEZONE
BEGIN:VEVENT
DTSTART;TZID=Europe/Vienna:20210304T170000
DTEND;TZID=Europe/Vienna:20210304T173000
DTSTAMP:20260426T015835
CREATED:20210209T121144Z
LAST-MODIFIED:20210218T012627Z
UID:1193-1614877200-1614879000@ijanna-sol.com
SUMMARY:Priestess Sharing
DESCRIPTION:[eosb_row][eosb_column][eosb_column_text]Im Priestess Sharing öffne ich einen Raum\, indem das Wissen und die Weisheit\, die mir die letzten Jahre von meiner Lehrerin Priestess Graell Corsini übermittelt wurde. Sie ist eine chopping wood and carry water Priestess – das heißt ihre Lehren sind sehr bodenständig\, alltagstauglich und mit dem Herzen der Erde verbunden. Vor allem Spezialisiere ich mich auf Naturlehren\, Schwellenrituale heilige Sexualität und dem täglichen Leben einer Priesterin. Ich freue mich wenn du mein kostenfreies Sharing in Anspruch nimmst und dich inspirieren lässt ❤️[/eosb_column_text][eosb_simple_button title=“Priestess Sharing“ url=“https://youtu.be/8GPT3O3-CfY“ target=“_blank“][/eosb_column][/eosb_row]
URL:https://ijanna-sol.com/veranstaltung/priestess-sharing/
ATTACH;FMTTYPE=image/jpeg:https://ijanna-sol.com/wp-content/uploads/2021/02/ijanna-sol-priestess-training-tantra-yoga.jpg
END:VEVENT
BEGIN:VEVENT
DTSTART;TZID=Europe/Vienna:20210305T150000
DTEND;TZID=Europe/Vienna:20210305T153000
DTSTAMP:20260426T015835
CREATED:20210209T120858Z
LAST-MODIFIED:20210218T012734Z
UID:1190-1614956400-1614958200@ijanna-sol.com
SUMMARY:Intimate Talk
DESCRIPTION:[eosb_row][eosb_column][eosb_column_text]Intimate Talk mit meinem Liebsten Max Adonai – über Partnerschaft\, Sexualität Konflikte & Lösungen.\n\nMax und ich sind nun seit 13 Jahren miteinander auf dem Weg und trotzdem haben wir beide unser eigenes Leben. Partnerschaftspflege\, Commitment & Vertrauen\, Erotik & Anziehung und gemeinsam in die tiefe wachsen ist uns beiden ein rießiges Herzensanliegen. Darum teilen wir in Intimate Talk unsere Erfahrungen\, Geschichten und Tools aus unserem Werkzeugkoffer. Wir freuen uns\, wenn wir dich ein Stück weit inspirieren können.[/eosb_column_text][eosb_simple_button title=“Link Intimate talk“ url=“https://youtu.be/lYVlqz24Tbc“ target=“_blank“][/eosb_column][/eosb_row]
URL:https://ijanna-sol.com/veranstaltung/intimate-talk/
ATTACH;FMTTYPE=image/png:https://ijanna-sol.com/wp-content/uploads/2021/02/ijanna-sol-frauenarbeit-workshops-yoga-tantra-retreat-wien-2.png
END:VEVENT
BEGIN:VEVENT
DTSTART;TZID=Europe/Vienna:20210308T170000
DTEND;TZID=Europe/Vienna:20210308T173000
DTSTAMP:20260426T015835
CREATED:20210209T120220Z
LAST-MODIFIED:20210315T091015Z
UID:1182-1615222800-1615224600@ijanna-sol.com
SUMMARY:Tantrayoga Mondpraxis
DESCRIPTION:[eosb_row][eosb_column][eosb_column_text]Komm vorbei und lass uns gemeinsam praktizieren!\n\nIm Tantra Yoga lernst du dein Energiemanagement gezielt zu schulen.\nWas meine ich damit?\nWenn du wenig Energie hast\, dich müde und erschöpft fühlst\, lernst du Praktiken\, um dich aktiver zu fühlen. (Sonne)\nWenn du gestresst\, aufgeregt oder unkonzentriert bist\, lernst du zur Ruhe zu kommen\, zu Entspannen und Auszuatmen. (Mond)[/eosb_column_text][eosb_simple_button title=“Zoom Link“ url=“https://us04web.zoom.us/j/6303054802?pwd=NHdiaDJkM0RyNWMwSUN3NFBhNDdYdz09″ target=“_blank“][eosb_popup id=“1197″ text=“Jetzt anmelden“ color=“rgba(184\,140\,73\,0.81)“ look=“button“ align=“center“ zoom=“80″ scroll=“1″][eosb_empty_space height=“96px“][eosb_column_text]\nHast du noch Fragen?\n[/eosb_column_text][eosb_simple_button title=“Schreibe mir“ url=“https://ijanna-sol.com/contact“][eosb_empty_space][/eosb_column][/eosb_row]
URL:https://ijanna-sol.com/veranstaltung/tantra-yoga-kostenfrei-via-zoom/
ATTACH;FMTTYPE=image/png:https://ijanna-sol.com/wp-content/uploads/2020/11/ijanna-sol-woman-circle-songwriter-festivals-44.png
END:VEVENT
BEGIN:VEVENT
DTSTART;TZID=Europe/Vienna:20210311T170000
DTEND;TZID=Europe/Vienna:20210311T173000
DTSTAMP:20260426T015835
CREATED:20210209T121144Z
LAST-MODIFIED:20210315T091135Z
UID:1211-1615482000-1615483800@ijanna-sol.com
SUMMARY:Priestess Sharing
DESCRIPTION:[eosb_row][eosb_column][eosb_column_text]Im Priestess Sharing öffne ich einen Raum\, indem das Wissen und die Weisheit\, die mir die letzten Jahre von meiner Lehrerin Priestess Graell Corsini übermittelt wurde. Sie ist eine chopping wood and carry water Priestess – das heißt ihre Lehren sind sehr bodenständig\, alltagstauglich und mit dem Herzen der Erde verbunden. Vor allem Spezialisiere ich mich auf Naturlehren\, Schwellenrituale heilige Sexualität und dem täglichen Leben einer Priesterin. Ich freue mich wenn du mein kostenfreies Sharing in Anspruch nimmst und dich inspirieren lässt ❤️[/eosb_column_text][eosb_simple_button title=“Zoom Link“ url=“https://us04web.zoom.us/j/6303054802?pwd=NHdiaDJkM0RyNWMwSUN3NFBhNDdYdz09#success“ target=“_blank“][eosb_empty_space height=“96px“][eosb_column_text]\nHast du noch Fragen?\n[/eosb_column_text][eosb_simple_button title=“Schreibe mir“ url=“https://ijanna-sol.com/contact“][eosb_empty_space][/eosb_column][/eosb_row]
URL:https://ijanna-sol.com/veranstaltung/priestess-sharing-2021-03-11/
ATTACH;FMTTYPE=image/jpeg:https://ijanna-sol.com/wp-content/uploads/2021/02/ijanna-sol-priestess-training-tantra-yoga.jpg
END:VEVENT
BEGIN:VEVENT
DTSTART;TZID=Europe/Vienna:20210319T150000
DTEND;TZID=Europe/Vienna:20210319T153000
DTSTAMP:20260426T015835
CREATED:20210209T120858Z
LAST-MODIFIED:20210315T091232Z
UID:1270-1616166000-1616167800@ijanna-sol.com
SUMMARY:Intimate Talk
DESCRIPTION:[eosb_row][eosb_column][eosb_column_text]Intimate Talk mit meinem Liebsten Max Adonai – über Partnerschaft\, Sexualität Konflikte & Lösungen.\n\nMax und ich sind nun seit 13 Jahren miteinander auf dem Weg und trotzdem haben wir beide unser eigenes Leben. Partnerschaftspflege\, Commitment & Vertrauen\, Erotik & Anziehung und gemeinsam in die tiefe wachsen ist uns beiden ein rießiges Herzensanliegen. Darum teilen wir in Intimate Talk unsere Erfahrungen\, Geschichten und Tools aus unserem Werkzeugkoffer. Wir freuen uns\, wenn wir dich ein Stück weit inspirieren können.[/eosb_column_text][eosb_simple_button title=“Zoom Link“ url=“https://us04web.zoom.us/j/6303054802?pwd=NHdiaDJkM0RyNWMwSUN3NFBhNDdYdz09#success“ target=“_blank“][eosb_empty_space height=“96px“][eosb_column_text]\nHast du noch Fragen?\n[/eosb_column_text][eosb_simple_button title=“Schreibe mir“ url=“https://ijanna-sol.com/contact“][eosb_empty_space][/eosb_column][/eosb_row]
URL:https://ijanna-sol.com/veranstaltung/intimate-talk-2021-03-19/
ATTACH;FMTTYPE=image/png:https://ijanna-sol.com/wp-content/uploads/2021/02/ijanna-sol-frauenarbeit-workshops-yoga-tantra-retreat-wien-2.png
END:VEVENT
END:VCALENDAR