BEGIN:VCALENDAR
VERSION:2.0
PRODID:-//Ijanna Sol - ECPv6.2.8.2//NONSGML v1.0//EN
CALSCALE:GREGORIAN
METHOD:PUBLISH
X-ORIGINAL-URL:https://ijanna-sol.com
X-WR-CALDESC:Veranstaltungen für Ijanna Sol
REFRESH-INTERVAL;VALUE=DURATION:PT1H
X-Robots-Tag:noindex
X-PUBLISHED-TTL:PT1H
BEGIN:VTIMEZONE
TZID:Europe/Vienna
BEGIN:DAYLIGHT
TZOFFSETFROM:+0100
TZOFFSETTO:+0200
TZNAME:CEST
DTSTART:20210328T010000
END:DAYLIGHT
BEGIN:STANDARD
TZOFFSETFROM:+0200
TZOFFSETTO:+0100
TZNAME:CET
DTSTART:20211031T010000
END:STANDARD
END:VTIMEZONE
BEGIN:VEVENT
DTSTART;VALUE=DATE:20210827
DTEND;VALUE=DATE:20210830
DTSTAMP:20260425T173711
CREATED:20210202T224427Z
LAST-MODIFIED:20210223T105055Z
UID:1094-1630022400-1630281599@ijanna-sol.com
SUMMARY:Retreat: Reclaim your Inner Goddess
DESCRIPTION:[eosb_row][eosb_column][eosb_column_text]Komm in deinem inneren Tempel an\n\nEingebettet im Moospolster und Megalithenland in Oberösterreich nähe Amstetten erfährst du eine kraftvolle Zeit gefüllt mit Body activating exercises\, Yoga\, beherzter Schwellenrituale um dir selbst tief zu begegnen und nächste bewusste Schritte für dein Leben zu entscheiden\, geführt in einem gut gehaltenen rituellen Rahmen.[/eosb_column_text][/eosb_column][/eosb_row]
URL:https://ijanna-sol.com/veranstaltung/retreat-reclaim-your-inner-goddess/
LOCATION:St.Thomas am Blasenstein
ATTACH;FMTTYPE=image/png:https://ijanna-sol.com/wp-content/uploads/2021/01/ijanna-sol-woman-circle-retreats.png
END:VEVENT
END:VCALENDAR