BEGIN:VCALENDAR
VERSION:2.0
PRODID:-//Ijanna Sol - ECPv6.2.8.2//NONSGML v1.0//EN
CALSCALE:GREGORIAN
METHOD:PUBLISH
X-WR-CALNAME:Ijanna Sol
X-ORIGINAL-URL:https://ijanna-sol.com
X-WR-CALDESC:Veranstaltungen für Ijanna Sol
REFRESH-INTERVAL;VALUE=DURATION:PT1H
X-Robots-Tag:noindex
X-PUBLISHED-TTL:PT1H
BEGIN:VTIMEZONE
TZID:Europe/Vienna
BEGIN:DAYLIGHT
TZOFFSETFROM:+0100
TZOFFSETTO:+0200
TZNAME:CEST
DTSTART:20210328T010000
END:DAYLIGHT
BEGIN:STANDARD
TZOFFSETFROM:+0200
TZOFFSETTO:+0100
TZNAME:CET
DTSTART:20211031T010000
END:STANDARD
END:VTIMEZONE
BEGIN:VEVENT
DTSTART;TZID=Europe/Vienna:20211023T170000
DTEND;TZID=Europe/Vienna:20211023T220000
DTSTAMP:20260425T140454
CREATED:20211014T163136Z
LAST-MODIFIED:20211019T164042Z
UID:1666-1635008400-1635026400@ijanna-sol.com
SUMMARY:Sonnentempel Eröffnungsfest
DESCRIPTION:[eosb_row][eosb_column][eosb_column_text]Es ist so weit – der Sonnentempel öffnet seine Tore. \n\nEin traumhafter Ort Umgeben von Wald und Wiesen Nähe Klosterneuburg und Sankt Andrä Wördern.\n\n\n \n\n \n\n[/eosb_column_text][/eosb_column][/eosb_row][eosb_row][eosb_column width=“1/2″][eosb_single_image image=“1668″][/eosb_column][eosb_column width=“1/2″][eosb_single_image image=“1667″][/eosb_column][/eosb_row]
URL:https://ijanna-sol.com/veranstaltung/sonnentempel-eroeffnungsfest/
LOCATION:Sonnentempel\, Hadersfeld 3422
ATTACH;FMTTYPE=image/jpeg:https://ijanna-sol.com/wp-content/uploads/2021/10/gfzwnbxz3vmq7lop4wjaqee4qicjgduheirkzk6qrpah4amyvsp7vscwypvr6zg7zg6ci7luofwzrt74507d9hvjl6k146sg8-uku7e9nczath3lt7-oorapjdhwcukd82kluwughnd43h9tpxkcurusopfzvm8s0-d-e1-ft.jpg
END:VEVENT
BEGIN:VEVENT
DTSTART;TZID=Europe/Vienna:20211027T090000
DTEND;TZID=Europe/Vienna:20211027T103000
DTSTAMP:20260425T140454
CREATED:20210302T114442Z
LAST-MODIFIED:20211126T131101Z
UID:1395-1635325200-1635330600@ijanna-sol.com
SUMMARY:Tantrayoga Sonnenpraxis
DESCRIPTION:[eosb_row][eosb_column][eosb_column_text]Diese Praxis läd dich zu Sonnenyoga ein. Wir aktivieren unseren Körper\, laden uns mit frischer Energie auf und spüren unsere Kraft. Tantrayoga Sonnenpraxis ist genau das richtige am Vormittag um mit voller Fahrt in den Tag zu starten und dir selbst was Gutes zu tun.\n\n[/eosb_column_text][eosb_popup id=“1197″ text=“Jetzt anmelden“ color=“rgba(184\,140\,73\,0.75)“ look=“button“ align=“center“ zoom=“80″ scroll=“1″][eosb_empty_space height=“96px“][eosb_column_text]\nHast du noch Fragen?\n[/eosb_column_text][eosb_simple_button title=“Schreibe mir“ url=“https://ijanna-sol.com/contact“][eosb_empty_space][/eosb_column][/eosb_row]
URL:https://ijanna-sol.com/veranstaltung/tantrayoga-sonnenpraxis/
LOCATION:Sonnentempel\, Hadersfeld 3422
ATTACH;FMTTYPE=image/png:https://ijanna-sol.com/wp-content/uploads/2021/11/sonnenyoga-2.png
END:VEVENT
BEGIN:VEVENT
DTSTART;TZID=Europe/Vienna:20211029T173000
DTEND;TZID=Europe/Vienna:20211029T190000
DTSTAMP:20260425T140454
CREATED:20210209T120220Z
LAST-MODIFIED:20211126T130842Z
UID:1220-1635528600-1635534000@ijanna-sol.com
SUMMARY:Tantrayoga Mondpraxis
DESCRIPTION:[eosb_row][eosb_column][eosb_column_text]Diese Praxis gleicht aus\, entspannt\,fördert die Konzentration lässt dich ausatmen und zur Ruhe kommen.\n\nMit sanften Körperübungen fühlen wir uns nach der Mondpraxis wieder so richtig wohl im Körper.[/eosb_column_text][eosb_popup id=“1197″ text=“Jetzt anmelden“ color=“rgba(184\,140\,73\,0.81)“ look=“button“ align=“center“ zoom=“80″ scroll=“1″][eosb_empty_space height=“96px“][eosb_column_text]\nHast du noch Fragen?\n[/eosb_column_text][eosb_simple_button title=“Schreibe mir“ url=“https://ijanna-sol.com/contact“][eosb_empty_space][/eosb_column][/eosb_row]
URL:https://ijanna-sol.com/veranstaltung/tantra-yoga-kostenfrei-via-zoom-2021-03-29/
LOCATION:Sonnentempel\, Hadersfeld 3422
ATTACH;FMTTYPE=image/png:https://ijanna-sol.com/wp-content/uploads/2021/11/mondyoga1.png
END:VEVENT
END:VCALENDAR