BEGIN:VCALENDAR
VERSION:2.0
PRODID:-//Ijanna Sol - ECPv6.2.8.2//NONSGML v1.0//EN
CALSCALE:GREGORIAN
METHOD:PUBLISH
X-WR-CALNAME:Ijanna Sol
X-ORIGINAL-URL:https://ijanna-sol.com
X-WR-CALDESC:Veranstaltungen für Ijanna Sol
REFRESH-INTERVAL;VALUE=DURATION:PT1H
X-Robots-Tag:noindex
X-PUBLISHED-TTL:PT1H
BEGIN:VTIMEZONE
TZID:Europe/Vienna
BEGIN:DAYLIGHT
TZOFFSETFROM:+0100
TZOFFSETTO:+0200
TZNAME:CEST
DTSTART:20220327T010000
END:DAYLIGHT
BEGIN:STANDARD
TZOFFSETFROM:+0200
TZOFFSETTO:+0100
TZNAME:CET
DTSTART:20221030T010000
END:STANDARD
END:VTIMEZONE
BEGIN:VEVENT
DTSTART;TZID=Europe/Vienna:20220415T150000
DTEND;TZID=Europe/Vienna:20220415T200000
DTSTAMP:20260425T035110
CREATED:20220329T071347Z
LAST-MODIFIED:20221007T202237Z
UID:2104-1650034800-1650052800@ijanna-sol.com
SUMMARY:Celebrate with me
DESCRIPTION:Der Inhalt ist geschützt.
URL:https://ijanna-sol.com/veranstaltung/celebrate-with-me/
LOCATION:Sonnentempel / Sankt Andrä Wördern
END:VEVENT
BEGIN:VEVENT
DTSTART;TZID=Europe/Vienna:20220422T170000
DTEND;TZID=Europe/Vienna:20220422T210000
DTSTAMP:20260425T035110
CREATED:20220331T111953Z
LAST-MODIFIED:20220331T121616Z
UID:2118-1650646800-1650661200@ijanna-sol.com
SUMMARY:Divine Union in You
DESCRIPTION:[eosb_row][eosb_column][eosb_empty_space][/eosb_column][/eosb_row][eosb_row][eosb_column][eosb_column_text]\n\n\nSo oft steht so viel zwischen uns\n\n\n – zwischen dir und mir – \n\n\n– zwischen Mann und Frau – \n\n\nAlltagsnichtigkeiten die Spannungen oder Streit erzeugen.\n\n\nVerletzungen die aktiviert werden und Kränkungen verursachen.\n\n\nDistanz\, Kühle\, das Herz ist zu und will keine Begegnung und keinen Körperkontakt mehr.\n\n\nErwartungen\, Bedingungen\, Forderungen\, Enttäuschungen die die Partnerschaft oft schwer\, anstrengend und zur Last machen.\n\n\n \n\n\n~Divine Union in You~ möchte einen Raum schaffen\, um diesen männlichen und weiblichen Anteilen IN DIR zu begegnen um DICH zuallererst in DIR auszusöhnen. \n\n\n\nDie Kräfte die dahinter stehen\, die Emotionen und ungelebten Träume ausdrücken.\nIns Bewusstsein bringen.\n\n\n\nMit geführten Körpermeditationen\, Tanz\, Musik\, Yoga und Ritual schafft Ijanna Sol einen magischen Raum der Begegnung für dich und in dir. \n\n\nDie erste Reise findet am 22.4.22 im neuen Sonnentempel Raum in St. Andrä/Wördern statt.\n\n\n~Divine Union in You~ fördert Emotionale Intelligenz\, Verständnis\, Liebe und Mitgefühl indem wir loslassen\, zulassen\, ausdrücken und dasein lassen.\n\n\n \n\n\nWenn dich diese Reise zu dir selbst anspricht\, du schon immer deinen inneren Mann oder deine innere Frau kennen lernen wolltest – und in die Ermächtigung gehen willst\, Opfer und Täter Rollen und Spielchen aufzudecken\, die sich eventuell gerade in deiner Beziehung zeigen – bist du ganz herzlich willkommen. \n\n\nAuch wenn du gerade nicht in einer fixen Partnerschaft bist\, bist du wärmstens eingeladen.\n\n\n\nDieser Raum bietet Fläche um lustvoll\, gefühlvoll und tief in dein Inneres zu tauchen.\n\n\n[/eosb_column_text][eosb_single_image image=“2120″][eosb_popup id=“1062″ text=“Jetzt anmelden“ color=“rgba(184\,140\,73\,0.75)“ look=“button“ align=“center“ zoom=“80″ scroll=“1″][eosb_empty_space height=“96px“][eosb_column_text]\nHast du noch Fragen?\n[/eosb_column_text][eosb_simple_button title=“Schreibe mir“ url=“https://ijanna-sol.com/contact“][eosb_empty_space][/eosb_column][/eosb_row][eosb_row][eosb_column][eosb_empty_space][/eosb_column][/eosb_row]
URL:https://ijanna-sol.com/veranstaltung/divine-union-in-you/
LOCATION:Sonnentempel / Sankt Andrä Wördern
ATTACH;FMTTYPE=image/jpeg:https://ijanna-sol.com/wp-content/uploads/2022/03/ecstatic-carneval-2022-erstauswahl-jpgs-sonjagroiss-275-2-scaled.jpg
END:VEVENT
BEGIN:VEVENT
DTSTART;TZID=Europe/Vienna:20220430T170000
DTEND;TZID=Europe/Vienna:20220430T200000
DTSTAMP:20260425T035110
CREATED:20211007T111531Z
LAST-MODIFIED:20221007T202938Z
UID:1654-1651338000-1651348800@ijanna-sol.com
SUMMARY:Zeit für Weiblichkeit
DESCRIPTION:[eosb_row][eosb_column][eosb_column_text]\nGemeinsam in die Kraft.\nDer Schwesternkreis ist dir gewiss!\nMit befreienden Ritualen in die Weiblichkeit.\n[/eosb_column_text][eosb_empty_space][/eosb_column][/eosb_row][eosb_row][eosb_column][eosb_single_image image=“2137″][/eosb_column][/eosb_row][eosb_row][eosb_column][/eosb_column][/eosb_row][eosb_row][eosb_column][eosb_popup id=“1062″ text=“Anmeldeformular“ color=“#b88c49″ look=“button“ align=“center“ zoom=“100″ scroll=“1″][eosb_row_inner][eosb_column_inner][/eosb_column_inner][/eosb_row_inner][eosb_empty_space][eosb_column_text][/eosb_column_text][eosb_column_text]\nFrauen  ~  Es ist Zeit immer wieder Räume zu schaffen\, in denen wir zusammen kommen uns auftanken und nähren.\n[/eosb_column_text][/eosb_column][/eosb_row]
URL:https://ijanna-sol.com/veranstaltung/zeit-fuer-weiblichkeit-7/
LOCATION:Sonnentempel / Sankt Andrä Wördern
ATTACH;FMTTYPE=image/jpeg:https://ijanna-sol.com/wp-content/uploads/2022/04/quad.jpg
END:VEVENT
END:VCALENDAR