BEGIN:VCALENDAR
VERSION:2.0
PRODID:-//Ijanna Sol - ECPv6.2.8.2//NONSGML v1.0//EN
CALSCALE:GREGORIAN
METHOD:PUBLISH
X-ORIGINAL-URL:https://ijanna-sol.com
X-WR-CALDESC:Veranstaltungen für Ijanna Sol
REFRESH-INTERVAL;VALUE=DURATION:PT1H
X-Robots-Tag:noindex
X-PUBLISHED-TTL:PT1H
BEGIN:VTIMEZONE
TZID:Europe/Vienna
BEGIN:DAYLIGHT
TZOFFSETFROM:+0100
TZOFFSETTO:+0200
TZNAME:CEST
DTSTART:20220327T010000
END:DAYLIGHT
BEGIN:STANDARD
TZOFFSETFROM:+0200
TZOFFSETTO:+0100
TZNAME:CET
DTSTART:20221030T010000
END:STANDARD
END:VTIMEZONE
BEGIN:VEVENT
DTSTART;TZID=Europe/Vienna:20220507T160000
DTEND;TZID=Europe/Vienna:20220507T200000
DTSTAMP:20260425T020337
CREATED:20220429T095927Z
LAST-MODIFIED:20220501T121641Z
UID:2169-1651939200-1651953600@ijanna-sol.com
SUMMARY:Sex ~ Hol dir deine Lebenslust zurück
DESCRIPTION:[eosb_row][eosb_column][eosb_empty_space][/eosb_column][/eosb_row][eosb_row][eosb_column][eosb_column_text]\n\n▽ Welche Geschichten poppen bei dir auf\, wenn du das Wort Sex hörst?\nWas ist dir schon alles passiert und was ist jetzt noch da – im Körper spürbar von diesen Geschichten …\nIch träum davon im Kreis zu sitzen und einander diese Geschichten zu erzählen.\nIch möcht dir zuhören und du hörst mir zu. ☫\n\n\n▽ Mit welchem Bild von Sex bin ich aufgewachsen Sex und was war der Grundvibe des Kollektivs\, der mich geprägt hat?\nWie stark beeinflusst mich die jahrtausendealte katholische Geschichte Rund um Sex? ☫\n\n\n▽ Was ist sexuelle Kraft?\nKann ich sexuelle Kraft in erster Linie FÜR MICH nutzen?\nWie fühlt sie sich an und will ich überhaupt sexy sein?\nSexy\, Intelligent und Fürsorglich – geht das Zusammen? ☫\n\n\n\n☤☤☤☤☤☤☤☤☤☤☤☤☤☤☤☤\nIch zeig sexuelle Kraft gar nicht.\nIch zeig sie\, um etwas zu bekommen.\n\n\nIch muss sexy für andere sein.\nIch muss ihm gefallen.\n\n\nEs geht mir so auf die Nerven dass ich nichts damit zu tun haben will.\nSex bringt nur Schmerz.\n☤☤☤☤☤☤☤☤☤☤☤☤☤☤☤☤\n\n\n\nEin Rahmen\, indem wir uns Geschichten erzählen\, einander zuhören\, eintauchen\, austauschen\, erforschen\, inspirieren und fühlen – bis wir die Extase\, Lust und Leichtigkeit die in dieser Urkraft steckt genießen …\n\n\nEIN RAUM FÜR FRAUEN\n[/eosb_column_text][eosb_single_image image=“2171″][eosb_popup id=“1062″ text=“Jetzt anmelden“ color=“rgba(184\,140\,73\,0.75)“ look=“button“ align=“center“ zoom=“80″ scroll=“1″][eosb_empty_space height=“96px“][eosb_column_text]\nHast du noch Fragen?\n[/eosb_column_text][eosb_simple_button title=“Schreibe mir“ url=“https://ijanna-sol.com/contact“][eosb_empty_space][/eosb_column][/eosb_row][eosb_row][eosb_column][eosb_empty_space][/eosb_column][/eosb_row]
URL:https://ijanna-sol.com/veranstaltung/sex/
LOCATION:Sonnentempel / Sankt Andrä Wördern
ATTACH;FMTTYPE=image/jpeg:https://ijanna-sol.com/wp-content/uploads/2022/04/anasyrma-maria-noi-0072-kopie-3.jpg
END:VEVENT
BEGIN:VEVENT
DTSTART;TZID=Europe/Vienna:20220516T160000
DTEND;TZID=Europe/Vienna:20220516T200000
DTSTAMP:20260425T020337
CREATED:20220511T170931Z
LAST-MODIFIED:20220516T082706Z
UID:2177-1652716800-1652731200@ijanna-sol.com
SUMMARY:Fullmoon Beltane Ceremony
DESCRIPTION:[eosb_row][eosb_column][eosb_empty_space][/eosb_column][/eosb_row][eosb_row][eosb_column][eosb_column_text]\nFullmoon Beltane Ceremony\n \nSei dabei und feier mit uns an diesen lustvollen freudvollen Nachmittag.\nGemeinsam aktivieren wir die Sexualkraft\, und die wunderschöne Verbindung zum Leben und der Lebenslust.\n\nWir zelebrieren den “Maibaum aufstellen“ Brauch in einer uralten und doch ganz neuen Weise und ehren somit unsere Genialen und die Verbindung von Mann und Frau.\nwenn du die Lust verspürst\, aktiv und spielerisch an diesem Ritual mitzuwirken dann bist du genau richtig!\n\nWir lassen den Alltag hinter uns und feiern im Vollmond Sonnentempelraum.\n\nBring Blumen\, Honig\, Milch\, Rotwein\, rote Beete Saft\, Rosenblätter\, Ton zum kneten\, genussreiches sinnliches Essen mit zum schmücken schmausen und fühlen.\n\nDresscode: green & red[/eosb_column_text][eosb_popup id=“1062″ text=“Jetzt anmelden“ color=“rgba(184\,140\,73\,0.75)“ look=“button“ align=“center“ zoom=“80″ scroll=“1″][eosb_empty_space height=“96px“][eosb_column_text]\nHast du noch Fragen?\n[/eosb_column_text][eosb_simple_button title=“Schreibe mir“ url=“https://ijanna-sol.com/contact“][eosb_empty_space][/eosb_column][/eosb_row][eosb_row][eosb_column][eosb_single_image image=“2180″ img_size=“medium-large“][/eosb_column][/eosb_row][eosb_row][eosb_column][eosb_empty_space][eosb_column_text]\nBELTANE CEREMONY\nMONDAY MAY 16th\n\nMake yourself ready for celebrating and\nExperience an Honoring Ritual from our Ancestors.\nTogether we activate the sexual power within and connect ourselves to this beautiful Life and Lushness.\n\nPeople\nIt is time\nMoon is rising\nFULLMOON ahead of us\nOpen up to her\nHonour the sacred Earth Temple\nFeel your Light and embody your Truth\nCOME BACK TO YOUR SEXUAL NATURE\nand CELEBRATE with us\n\n\n[/eosb_column_text][/eosb_column][/eosb_row][eosb_row][eosb_column][eosb_single_image image=“2179″ img_size=“medium-large“][/eosb_column][/eosb_row]
URL:https://ijanna-sol.com/veranstaltung/fullmoon-beltane-ceremony/
LOCATION:Sonnentempel / Sankt Andrä Wördern
ATTACH;FMTTYPE=image/jpeg:https://ijanna-sol.com/wp-content/uploads/2022/05/280242083-736717451031944-2339295402315717571-n.jpg
END:VEVENT
BEGIN:VEVENT
DTSTART;TZID=Europe/Vienna:20220517T170000
DTEND;TZID=Europe/Vienna:20220607T190000
DTSTAMP:20260425T020337
CREATED:20220513T073903Z
LAST-MODIFIED:20220516T082258Z
UID:2212-1652806800-1654628400@ijanna-sol.com
SUMMARY:Priestess Portal
DESCRIPTION:[eosb_row][eosb_column][eosb_empty_space][/eosb_column][/eosb_row][eosb_row][eosb_column][eosb_column_text]\n\n\n\n☤☤☤☤☤☤☤☤☤☤☤☤☤☤☤☤\n\n\n\n\n Ein Online Portal\n22 Days  the Art of Priestessing\n3 Live Online Calls\n3 Wochen lang Transmissions\, Aktivierungen\, energetische Begleitung und Emodiment Praxis\n\n\nWir starten am 17. Mai 17 h\n111€\n\n\nEin Online Raum der 22 Tage lang ganz im Sinne von Priestessing the Paradigm Shift vereint\, die Energie der eigenen Kraftquelle hochhält und Inspirationen\, Übungen\, Meditationen und viel LIEBE liefert.\n\n\nWalking together the Path of sacred Livinig.\nWeil wir dafür gekommen sind.\n\n\n☤☤☤☤☤☤☤☤☤☤☤☤☤☤☤☤\n\n\n\n\n[/eosb_column_text][eosb_single_image image=“1231″ img_size=“medium-large“][eosb_popup id=“1062″ text=“Jetzt anmelden“ color=“rgba(184\,140\,73\,0.75)“ look=“button“ align=“center“ zoom=“80″ scroll=“1″][eosb_empty_space height=“96px“][eosb_column_text]\nHast du noch Fragen?\n[/eosb_column_text][eosb_simple_button title=“Schreibe mir“ url=“https://ijanna-sol.com/contact“][eosb_empty_space][/eosb_column][/eosb_row][eosb_row][eosb_column][eosb_empty_space][/eosb_column][/eosb_row]
URL:https://ijanna-sol.com/veranstaltung/priestess-portal/
LOCATION:Online
ATTACH;FMTTYPE=image/jpeg:https://ijanna-sol.com/wp-content/uploads/2022/05/280555530-737702760933413-2409502109881656526-n.jpg
END:VEVENT
BEGIN:VEVENT
DTSTART;TZID=Europe/Vienna:20220522T110000
DTEND;TZID=Europe/Vienna:20220522T190000
DTSTAMP:20260425T020337
CREATED:20220512T193900Z
LAST-MODIFIED:20220519T101408Z
UID:2209-1653217200-1653246000@ijanna-sol.com
SUMMARY:Sex ~ Hol dir deine Lebenslust zurück
DESCRIPTION:[eosb_row][eosb_column][eosb_empty_space][/eosb_column][/eosb_row][eosb_row][eosb_column][eosb_column_text]\n\n♡ Let’s come together in Joy and Enjoy ♡\n\n Der Sonntag wird sonnig und wir haben Hail to the Goddess einen wundervollen\, geschützten\, geborgenen\, sexy und von Natur und Blütenzauber erfüllten Raum ! mit Jurte !\n\nEine Einladung ☫\nWenn du kommst – sei ganz da  ☫\n\n\n\n▽ Sinnlich\, Verspielt\, mit Musik und alles was die Sinne erweckt und verwöhnt\n\n\n\n▽ Schokolade in der Sonne schmelzen lassen und Bananen und Erdbeeren reintunken\n\n▽  Nimm Kleidungsstücke\, Dessous\, Stoffe mit die du wunderschön findest\, dich anturnen\, du dich nie traust sie anzuziehen\, immer schon mal damit fotografiert werden wolltest\n\n\n▽ Lass dich lustvoll fotografieren wenn du willst\n\n▽ Yonigazing & Yonipraising if we feel so …\n\n☤☤☤☤☤☤☤☤☤☤☤☤☤☤☤☤☤☤☤☤☤☤☤☤☤☤☤☤☤☤☤☤\n\nWAS IST ES WONACH DU DICH SEHNST?\n\nWillst du gesehen werden?\nWillst du gehalten werden?\nWillst du dich präsentieren?\n\n\n☤☤☤☤☤☤☤☤☤☤☤☤☤☤☤☤☤☤☤☤☤☤☤☤☤☤☤☤☤☤☤☤\n\n\nHier kannst du dich ausleben\nLasst und einfach Spaß haben\, in aller Tiefe – mit allen Höhen\nMit allen Sinnen und in totaler Achtsamkeit und Respekt zueinander\nIn Ehrlichkeit\, Sensibilität und Offenheit\n\n☫ Bring was du hast und gib was du willst ☫\n\nEIN RAUM FÜR FRAUEN\nWir tauchen den ganzen Tag full on ein\nAb 11 h – wir schauen wie langs uns Spaß macht …meinte die Göttin 😉\n\n[/eosb_column_text][eosb_single_image image=“2171″][eosb_popup id=“1062″ text=“Jetzt anmelden“ color=“rgba(184\,140\,73\,0.75)“ look=“button“ align=“center“ zoom=“80″ scroll=“1″][eosb_empty_space height=“96px“][eosb_column_text]\nHast du noch Fragen?\n[/eosb_column_text][eosb_simple_button title=“Schreibe mir“ url=“https://ijanna-sol.com/contact“][eosb_empty_space][/eosb_column][/eosb_row][eosb_row][eosb_column][eosb_empty_space][/eosb_column][/eosb_row]
URL:https://ijanna-sol.com/veranstaltung/sex6/
LOCATION:Sonnentempel / Sankt Andrä Wördern
ATTACH;FMTTYPE=image/jpeg:https://ijanna-sol.com/wp-content/uploads/2022/04/anasyrma-maria-noi-0072-kopie-3.jpg
END:VEVENT
BEGIN:VEVENT
DTSTART;TZID=Europe/Vienna:20220530T170000
DTEND;TZID=Europe/Vienna:20220530T200000
DTSTAMP:20260425T020337
CREATED:20211007T111531Z
LAST-MODIFIED:20221007T202939Z
UID:2139-1653930000-1653940800@ijanna-sol.com
SUMMARY:Zeit für Weiblichkeit
DESCRIPTION:[eosb_row][eosb_column][eosb_column_text]\nGemeinsam in die Kraft.\nDer Schwesternkreis ist dir gewiss!\nMit befreienden Ritualen in die Weiblichkeit.\n[/eosb_column_text][eosb_empty_space][/eosb_column][/eosb_row][eosb_row][eosb_column][eosb_single_image image=“2137″][/eosb_column][/eosb_row][eosb_row][eosb_column][/eosb_column][/eosb_row][eosb_row][eosb_column][eosb_popup id=“1062″ text=“Anmeldeformular“ color=“#b88c49″ look=“button“ align=“center“ zoom=“100″ scroll=“1″][eosb_row_inner][eosb_column_inner][/eosb_column_inner][/eosb_row_inner][eosb_empty_space][eosb_column_text][/eosb_column_text][eosb_column_text]\nFrauen  ~  Es ist Zeit immer wieder Räume zu schaffen\, in denen wir zusammen kommen uns auftanken und nähren.\n[/eosb_column_text][/eosb_column][/eosb_row]
URL:https://ijanna-sol.com/veranstaltung/zeit-fuer-weiblichkeit-7-2022-05-30/
LOCATION:Sonnentempel / Sankt Andrä Wördern
ATTACH;FMTTYPE=image/jpeg:https://ijanna-sol.com/wp-content/uploads/2022/04/quad.jpg
END:VEVENT
END:VCALENDAR